BEGIN:VCALENDAR
VERSION:2.0
PRODID:-//hacksw/handcal//NONSGML v1.0//EN
BEGIN:VEVENT
SUMMARY:SAINT PEE SUR NIVELLE / CRC XV
UID:cdb13b24-b463-46db-ae68-ac2b7288664a
DTSTART:20260426T133000Z
DTEND:20260426T150000Z
LOCATION:Localisation   
CATEGORIES:Sportif
STATUS:
URL;VALUE=URI:https://www.crcxv.com/evenements/2026/04/26/saint-pee-sur-nivelle-crc-xv-2442910
END:VEVENT
END:VCALENDAR
